BEGIN:VCALENDAR
VERSION:2.0
PRODID:-//https://ftp.cameronstation.org//NONSGML kigkonsult.se iCalcreator 2.41.71//
CALSCALE:GREGORIAN
METHOD:PUBLISH
UID:33656631-3733-4430-b139-326663366165
X-WR-CALNAME:JCal Pro Calendar
X-WR-CALDESC:Your online events calendar
X-WR-TIMEZONE:America/New_York
BEGIN:VTIMEZONE
TZID:America/New_York
TZUNTIL:20271107T060000Z
BEGIN:STANDARD
TZNAME:EST
DTSTART:20251102T020000
TZOFFSETFROM:-0400
TZOFFSETTO:-0500
RDATE:20261101T020000
END:STANDARD
BEGIN:DAYLIGHT
TZNAME:EDT
DTSTART:20260308T020000
TZOFFSETFROM:-0500
TZOFFSETTO:-0400
RDATE:20270314T020000
END:DAYLIGHT
END:VTIMEZONE
BEGIN:VEVENT
UID:20240108T190000EST-0361WWeRrC@https://cameronstation.org/
DTSTAMP:20260425T131951Z
CATEGORIES:Board & Committee Meetings
DESCRIPTION:<p>The Common Area Committee will not meet Monday\, June 10\, 2
 024. The meeting has been rescheduled to Monday\, July 8\, 2024\, at 7:00 
 pm.&nbsp\;<a href='resident-services/board-committees/common-area-committe
 e' target='_blank' rel='noopener noreferrer'>Click here</a>&nbsp\;for more
  information.&nbsp\;</p>
DTSTART;TZID=America/New_York:20240610T190000
DTEND;TZID=America/New_York:20240610T200000
SUMMARY:Common Area Committee Meeting - Canceled
URL:https://ftp.cameronstation.org/calendar/68-csca-event-calendar/74-commi
 ttee-meetings/6566-common-area-committee-meeting
X-ALT-DESC;FMTTYPE=TEXT/HTML:<p>The Common Area Committee will not meet Mon
 day\, June 10\, 2024. The meeting has been rescheduled to Monday\, July 8\
 , 2024\, at 7:00 pm.&nbsp\;<a href='resident-services/board-committees/com
 mon-area-committee' target='_blank' rel='noopener noreferrer'>Click here</
 a>&nbsp\;for more information.&nbsp\;</p>
END:VEVENT
END:VCALENDAR
