BEGIN:VCALENDAR
VERSION:2.0
PRODID:-//https://ftp.cameronstation.org//NONSGML kigkonsult.se iCalcreator 2.41.71//
CALSCALE:GREGORIAN
METHOD:PUBLISH
UID:65313435-3164-4365-a233-313632616237
X-WR-CALNAME:JCal Pro Calendar
X-WR-CALDESC:Your online events calendar
X-WR-TIMEZONE:America/New_York
BEGIN:VTIMEZONE
TZID:America/New_York
TZUNTIL:20271107T060000Z
BEGIN:STANDARD
TZNAME:EST
DTSTART:20251102T020000
TZOFFSETFROM:-0400
TZOFFSETTO:-0500
RDATE:20261101T020000
END:STANDARD
BEGIN:DAYLIGHT
TZNAME:EDT
DTSTART:20260308T020000
TZOFFSETFROM:-0500
TZOFFSETTO:-0400
RDATE:20270314T020000
END:DAYLIGHT
END:VTIMEZONE
BEGIN:VEVENT
UID:20240109T190000EST-2661dcIPcK@https://cameronstation.org/
DTSTAMP:20260425T115437Z
CATEGORIES:Board & Committee Meetings
DESCRIPTION:<p>The Architectural Review Committee typically meets the first
  Tuesday of each month\, at 7:00pm.&nbsp\;<strong>This meeting has been re
 scheduled to Tuesday\, July 9\, 2024\, due to the Fourth of July Holiday.&
 nbsp\;&nbsp\;</strong>Please&nbsp\;<span style='text-decoration: underline
 \;'><a href='our-neighborhood/board-committees/architectural-review-commit
 tee'>click&nbsp\;here</a></span>&nbsp\;for the meeting information.</p>
DTSTART;TZID=America/New_York:20240709T190000
DTEND;TZID=America/New_York:20240709T200000
SUMMARY:Architectural Review Committee Meeting
URL:https://ftp.cameronstation.org/calendar/68-csca-event-calendar/74-commi
 ttee-meetings/6556-architectural-review-committee-meeting
X-ALT-DESC;FMTTYPE=TEXT/HTML:<p>The Architectural Review Committee typicall
 y meets the first Tuesday of each month\, at 7:00pm.&nbsp\;<strong>This me
 eting has been rescheduled to Tuesday\, July 9\, 2024\, due to the Fourth 
 of July Holiday.&nbsp\;&nbsp\;</strong>Please&nbsp\;<span style='text-deco
 ration: underline\;'><a href='our-neighborhood/board-committees/architectu
 ral-review-committee'>click&nbsp\;here</a></span>&nbsp\;for the meeting in
 formation.</p>
END:VEVENT
END:VCALENDAR
