BEGIN:VCALENDAR
VERSION:2.0
PRODID:-//https://ftp.cameronstation.org//NONSGML kigkonsult.se iCalcreator 2.41.71//
CALSCALE:GREGORIAN
METHOD:PUBLISH
UID:31353536-3735-4134-b530-643563333630
X-WR-CALNAME:JCal Pro Calendar
X-WR-CALDESC:Your online events calendar
X-WR-TIMEZONE:America/New_York
BEGIN:VTIMEZONE
TZID:America/New_York
TZUNTIL:20271107T060000Z
BEGIN:STANDARD
TZNAME:EST
DTSTART:20251102T020000
TZOFFSETFROM:-0400
TZOFFSETTO:-0500
RDATE:20261101T020000
END:STANDARD
BEGIN:DAYLIGHT
TZNAME:EDT
DTSTART:20260308T020000
TZOFFSETFROM:-0500
TZOFFSETTO:-0400
RDATE:20270314T020000
END:DAYLIGHT
END:VTIMEZONE
BEGIN:VEVENT
UID:20240129T190000EST-7409DtDsJJ@https://cameronstation.org/
DTSTAMP:20260425T150548Z
CATEGORIES:Board & Committee Meetings
DESCRIPTION:<p>The Financial Advisory Committee typically meets on the Mond
 ay before the CSCA Board meeting at 7:00 pm\,&nbsp\;via virtual conference
 .&nbsp\; <strong>This meeting has been rescheduled to Monday\, May 20\, 20
 24\, at 7:00 pm.</strong> Please&nbsp\;<a href='our-neighborhood/board-com
 mittees/financial-advisory-committee'>click&nbsp\;here</a>&nbsp\;for the m
 eeting information.</p>
DTSTART;TZID=America/New_York:20240520T190000
DTEND;TZID=America/New_York:20240520T200000
SUMMARY:Financial Advisory Committee Meeting
URL:https://ftp.cameronstation.org/calendar/68-csca-event-calendar/74-commi
 ttee-meetings/6273-financial-advisory-committee-meeting
X-ALT-DESC;FMTTYPE=TEXT/HTML:<p>The Financial Advisory Committee typically 
 meets on the Monday before the CSCA Board meeting at 7:00 pm\,&nbsp\;via v
 irtual conference.&nbsp\; <strong>This meeting has been rescheduled to Mon
 day\, May 20\, 2024\, at 7:00 pm.</strong> Please&nbsp\;<a href='our-neigh
 borhood/board-committees/financial-advisory-committee'>click&nbsp\;here</a
 >&nbsp\;for the meeting information.</p>
END:VEVENT
END:VCALENDAR
