BEGIN:VCALENDAR
VERSION:2.0
PRODID:-//https://ftp.cameronstation.org//NONSGML kigkonsult.se iCalcreator 2.41.71//
CALSCALE:GREGORIAN
METHOD:PUBLISH
UID:39366139-3739-4465-b666-363763663961
X-WR-CALNAME:JCal Pro Calendar
X-WR-CALDESC:Your online events calendar
X-WR-TIMEZONE:America/New_York
BEGIN:VTIMEZONE
TZID:America/New_York
TZUNTIL:20271107T060000Z
BEGIN:STANDARD
TZNAME:EST
DTSTART:20251102T020000
TZOFFSETFROM:-0400
TZOFFSETTO:-0500
RDATE:20261101T020000
END:STANDARD
BEGIN:DAYLIGHT
TZNAME:EDT
DTSTART:20260308T020000
TZOFFSETFROM:-0500
TZOFFSETTO:-0400
RDATE:20270314T020000
END:DAYLIGHT
END:VTIMEZONE
BEGIN:VEVENT
UID:20240103T193000EST-6219MLR5B1@https://cameronstation.org/
DTSTAMP:20260425T101922Z
CATEGORIES:Board & Committee Meetings
DESCRIPTION:<p>The Activities and Events Committee will meet not meet on We
 dnesday\, August 7\, 2024\, at 7:00 pm. The next meeting has been schedule
 d for Wednesday\, September\, 4\, 2024. Please click&nbsp\;<a href='our-ne
 ighborhood/board-committees/activities-events-planning-committee'>here</a>
 &nbsp\;for meeting information.</p>
DTSTART;TZID=America/New_York:20240807T193000
DTEND;TZID=America/New_York:20240807T203000
SUMMARY:Activities & Events Planning Committee Meeting - Canceled
URL:https://ftp.cameronstation.org/calendar/68-csca-event-calendar/74-commi
 ttee-meetings/6229-activities-events-planning-committee-meeting
X-ALT-DESC;FMTTYPE=TEXT/HTML:<p>The Activities and Events Committee will me
 et not meet on Wednesday\, August 7\, 2024\, at 7:00 pm. The next meeting 
 has been scheduled for Wednesday\, September\, 4\, 2024. Please click&nbsp
 \;<a href='our-neighborhood/board-committees/activities-events-planning-co
 mmittee'>here</a>&nbsp\;for meeting information.</p>
END:VEVENT
END:VCALENDAR
