BEGIN:VCALENDAR
VERSION:2.0
PRODID:-//https://ftp.cameronstation.org//NONSGML kigkonsult.se iCalcreator 2.41.71//
CALSCALE:GREGORIAN
METHOD:PUBLISH
UID:66636435-3763-4134-b465-363332376662
X-WR-CALNAME:JCal Pro Calendar
X-WR-CALDESC:Your online events calendar
X-WR-TIMEZONE:America/New_York
BEGIN:VTIMEZONE
TZID:America/New_York
TZUNTIL:20271107T060000Z
BEGIN:STANDARD
TZNAME:EST
DTSTART:20251102T020000
TZOFFSETFROM:-0400
TZOFFSETTO:-0500
RDATE:20261101T020000
END:STANDARD
BEGIN:DAYLIGHT
TZNAME:EDT
DTSTART:20260308T020000
TZOFFSETFROM:-0500
TZOFFSETTO:-0400
RDATE:20270314T020000
END:DAYLIGHT
END:VTIMEZONE
BEGIN:VEVENT
UID:20240103T193000EST-6219MLR5B1@https://cameronstation.org/
DTSTAMP:20260425T115506Z
CATEGORIES:Board & Committee Meetings
DESCRIPTION:<p>The Activities &amp\; Events Planning Committee&nbsp\;will n
 ot meet Wednesday\, July 3\, 2024. The meeting has been rescheduled to Wed
 nesday\, August 7\, 2024\, at 7:00 pm.&nbsp\;<a href='https://www.camerons
 tation.org/resident-services/board-committees/activities-events-planning-c
 ommittee' target='_blank' rel='noopener noreferrer' data-link-type='web'>C
 lick here</a>&nbsp\;for more information.</p>
DTSTART;TZID=America/New_York:20240703T193000
DTEND;TZID=America/New_York:20240703T203000
SUMMARY:Activities & Events Planning Committee Meeting - Canceled
URL:https://ftp.cameronstation.org/calendar/68-csca-event-calendar/74-commi
 ttee-meetings/6228-activities-events-planning-committee-meeting
X-ALT-DESC;FMTTYPE=TEXT/HTML:<p>The Activities &amp\; Events Planning Commi
 ttee&nbsp\;will not meet Wednesday\, July 3\, 2024. The meeting has been r
 escheduled to Wednesday\, August 7\, 2024\, at 7:00 pm.&nbsp\;<a href='htt
 ps://www.cameronstation.org/resident-services/board-committees/activities-
 events-planning-committee' target='_blank' rel='noopener noreferrer' data-
 link-type='web'>Click here</a>&nbsp\;for more information.</p>
END:VEVENT
END:VCALENDAR
