BEGIN:VCALENDAR
VERSION:2.0
PRODID:-//https://ftp.cameronstation.org//NONSGML kigkonsult.se iCalcreator 2.41.71//
CALSCALE:GREGORIAN
METHOD:PUBLISH
UID:64353235-6230-4461-b631-623437313532
X-WR-CALNAME:JCal Pro Calendar
X-WR-CALDESC:Your online events calendar
X-WR-TIMEZONE:America/New_York
BEGIN:VTIMEZONE
TZID:America/New_York
TZUNTIL:20271107T060000Z
BEGIN:STANDARD
TZNAME:EST
DTSTART:20251102T020000
TZOFFSETFROM:-0400
TZOFFSETTO:-0500
RDATE:20261101T020000
END:STANDARD
BEGIN:DAYLIGHT
TZNAME:EDT
DTSTART:20260308T020000
TZOFFSETFROM:-0500
TZOFFSETTO:-0400
RDATE:20270314T020000
END:DAYLIGHT
END:VTIMEZONE
BEGIN:VEVENT
UID:20231017T190000EDT-8826csfvFP@https://cameronstation.org/
DTSTAMP:20260426T032150Z
CATEGORIES:Board & Committee Meetings
DESCRIPTION:<p>The Newsletter SubCommittee typically meets every two months
  to discuss the upcoming issue of&nbsp\;<em>The Compass.</em>&nbsp\; Pleas
 e click&nbsp\;<a href='our-neighborhood/board-committees/communications-co
 mmittee/newsletter-subcommittee'>here</a>&nbsp\;for the meeting informatio
 n.</p>
DTSTART;TZID=America/New_York:20231017T183000
DTEND;TZID=America/New_York:20231017T210000
SUMMARY:Newsletter SubCommittee Meeting
URL:https://ftp.cameronstation.org/calendar/68-csca-event-calendar/74-commi
 ttee-meetings/6208-newsletter-subcommittee-meeting
X-ALT-DESC;FMTTYPE=TEXT/HTML:<p>The Newsletter SubCommittee typically meets
  every two months to discuss the upcoming issue of&nbsp\;<em>The Compass.<
 /em>&nbsp\; Please click&nbsp\;<a href='our-neighborhood/board-committees/
 communications-committee/newsletter-subcommittee'>here</a>&nbsp\;for the m
 eeting information.</p>
END:VEVENT
END:VCALENDAR
