BEGIN:VCALENDAR
VERSION:2.0
PRODID:-//https://ftp.cameronstation.org//NONSGML kigkonsult.se iCalcreator 2.41.71//
CALSCALE:GREGORIAN
METHOD:PUBLISH
UID:65636336-6330-4966-b263-356564333338
X-WR-CALNAME:JCal Pro Calendar
X-WR-CALDESC:Your online events calendar
X-WR-TIMEZONE:America/New_York
BEGIN:VTIMEZONE
TZID:America/New_York
TZUNTIL:20271107T060000Z
BEGIN:STANDARD
TZNAME:EST
DTSTART:20251102T020000
TZOFFSETFROM:-0400
TZOFFSETTO:-0500
RDATE:20261101T020000
END:STANDARD
BEGIN:DAYLIGHT
TZNAME:EDT
DTSTART:20260308T020000
TZOFFSETFROM:-0500
TZOFFSETTO:-0400
RDATE:20270314T020000
END:DAYLIGHT
END:VTIMEZONE
BEGIN:VEVENT
UID:20230111T190000EST-8923a0SlLz@https://cameronstation.org/
DTSTAMP:20260426T013850Z
CATEGORIES:Board & Committee Meetings
DESCRIPTION:<p>The Communications Committee typically meets the second Wedn
 esday of the month at 7:00 pm\, via virtual conference.&nbsp\;Please <a hr
 ef='our-neighborhood/board-committees/communications-committee'><span styl
 e='text-decoration: underline\;'>click&nbsp\;here</span></a>&nbsp\;for mee
 ting information.</p>
DTSTART;TZID=America/New_York:20231108T190000
DTEND;TZID=America/New_York:20231108T200000
SUMMARY:Communications Committee Meeting
URL:https://ftp.cameronstation.org/calendar/68-csca-event-calendar/74-commi
 ttee-meetings/5690-communications-committee-meeting
X-ALT-DESC;FMTTYPE=TEXT/HTML:<p>The Communications Committee typically meet
 s the second Wednesday of the month at 7:00 pm\, via virtual conference.&n
 bsp\;Please <a href='our-neighborhood/board-committees/communications-comm
 ittee'><span style='text-decoration: underline\;'>click&nbsp\;here</span><
 /a>&nbsp\;for meeting information.</p>
END:VEVENT
END:VCALENDAR
