BEGIN:VCALENDAR
VERSION:2.0
PRODID:-//https://ftp.cameronstation.org//NONSGML kigkonsult.se iCalcreator 2.41.71//
CALSCALE:GREGORIAN
METHOD:PUBLISH
UID:66363163-6361-4862-a161-326565613463
X-WR-CALNAME:JCal Pro Calendar
X-WR-CALDESC:Your online events calendar
X-WR-TIMEZONE:America/New_York
BEGIN:VTIMEZONE
TZID:America/New_York
TZUNTIL:20271107T060000Z
BEGIN:STANDARD
TZNAME:EST
DTSTART:20251102T020000
TZOFFSETFROM:-0400
TZOFFSETTO:-0500
RDATE:20261101T020000
END:STANDARD
BEGIN:DAYLIGHT
TZNAME:EDT
DTSTART:20260308T020000
TZOFFSETFROM:-0500
TZOFFSETTO:-0400
RDATE:20270314T020000
END:DAYLIGHT
END:VTIMEZONE
BEGIN:VEVENT
UID:20240111T190000EST-7910Caz1Pi@https://cameronstation.org/
DTSTAMP:20260423T160016Z
CATEGORIES:Board & Committee Meetings
DESCRIPTION:<p>The Cameron Club Facilities Committee typically meets the se
 cond Thursday of the month at 7:00pm\, via virtual conference. Please clic
 k&nbsp\;<a href='our-neighborhood/board-committees/cameron-club-facilities
 -committee'>here</a>&nbsp\;for meeting information.</p>
DTSTART;TZID=America/New_York:20240111T190000
DTEND;TZID=America/New_York:20240111T200000
RRULE:FREQ=MONTHLY;UNTIL=20260611T040000Z;INTERVAL=1;BYDAY=TH;BYSETPOS=2
SUMMARY:Cameron Club Facilities Committee Meeting
URL:https://ftp.cameronstation.org/calendar/68-csca-event-calendar/74-commi
 ttee-meetings/6246-cameron-club-facilities-committee-meeting
X-ALT-DESC;FMTTYPE=TEXT/HTML:<p>The Cameron Club Facilities Committee typic
 ally meets the second Thursday of the month at 7:00pm\, via virtual confer
 ence. Please click&nbsp\;<a href='our-neighborhood/board-committees/camero
 n-club-facilities-committee'>here</a>&nbsp\;for meeting information.</p>
END:VEVENT
END:VCALENDAR
