BEGIN:VCALENDAR
VERSION:2.0
PRODID:-//https://ftp.cameronstation.org//NONSGML kigkonsult.se iCalcreator 2.41.71//
CALSCALE:GREGORIAN
METHOD:PUBLISH
UID:32653030-6537-4365-a331-343033393131
X-WR-CALNAME:JCal Pro Calendar
X-WR-CALDESC:Your online events calendar
X-WR-TIMEZONE:America/New_York
BEGIN:VTIMEZONE
TZID:America/New_York
TZUNTIL:20271107T060000Z
BEGIN:STANDARD
TZNAME:EST
DTSTART:20251102T020000
TZOFFSETFROM:-0400
TZOFFSETTO:-0500
RDATE:20261101T020000
END:STANDARD
BEGIN:DAYLIGHT
TZNAME:EDT
DTSTART:20260308T020000
TZOFFSETFROM:-0500
TZOFFSETTO:-0400
RDATE:20270314T020000
END:DAYLIGHT
END:VTIMEZONE
BEGIN:VEVENT
UID:20251112T190000UTC-8574cfuALM@https://cameronstation.org/
DTSTAMP:20260424T002203Z
CATEGORIES:Civic Association
DESCRIPTION:<p>The next virtual Membership Meeting is&nbsp\;on Wednesday\, 
 November 12\, 2025\, at 7:00 pm. Our guest speaker will be Paul Stoddard\,
  newly appointed as the City’s Director of the Department of Planning and 
 Zoning.&nbsp\;<span style='text-decoration: underline\;'><a href='categori
 es/our-neighborhood/civic-association' target='_blank' rel='noopener noref
 errer' data-link-type='web'>Click here</a></span> for more information.</p
 >
DTSTART;TZID=America/New_York:20251112T190000
DTEND;TZID=America/New_York:20251112T200000
SUMMARY:Civic Association Membership Meeting
URL:https://ftp.cameronstation.org/calendar/68-csca-event-calendar/73-civic
 -association/9964-civic-association-membershop-meeting
X-ALT-DESC;FMTTYPE=TEXT/HTML:<p>The next virtual Membership Meeting is&nbsp
 \;on Wednesday\, November 12\, 2025\, at 7:00 pm. Our guest speaker will b
 e Paul Stoddard\, newly appointed as the City’s Director of the Department
  of Planning and Zoning.&nbsp\;<span style='text-decoration: underline\;'>
 <a href='categories/our-neighborhood/civic-association' target='_blank' re
 l='noopener noreferrer' data-link-type='web'>Click here</a></span> for mor
 e information.</p>
END:VEVENT
END:VCALENDAR
