BEGIN:VCALENDAR
VERSION:2.0
PRODID:-//https://ftp.cameronstation.org//NONSGML kigkonsult.se iCalcreator 2.41.71//
CALSCALE:GREGORIAN
METHOD:PUBLISH
UID:37613439-3363-4639-a635-356633376335
X-WR-CALNAME:JCal Pro Calendar
X-WR-CALDESC:Your online events calendar
X-WR-TIMEZONE:America/New_York
BEGIN:VTIMEZONE
TZID:America/New_York
TZUNTIL:20271107T060000Z
BEGIN:STANDARD
TZNAME:EST
DTSTART:20251102T020000
TZOFFSETFROM:-0400
TZOFFSETTO:-0500
RDATE:20261101T020000
END:STANDARD
BEGIN:DAYLIGHT
TZNAME:EDT
DTSTART:20260308T020000
TZOFFSETFROM:-0500
TZOFFSETTO:-0400
RDATE:20270314T020000
END:DAYLIGHT
END:VTIMEZONE
BEGIN:VEVENT
UID:20240501T190000UTC-9721esPopp@https://cameronstation.org/
DTSTAMP:20260425T150534Z
CATEGORIES:Civic Association
DESCRIPTION:<p>The Cameron Station Civic Association is holding a Membershi
 p Meeting (via Zoom) on Wednesday\, 1 May 2024\, at 7:00 pm. <span style='
 text-decoration: underline\;'><a href='our-neighborhood/civic-association'
 >Click here</a></span> for more information.&nbsp\;</p>
DTSTART;TZID=America/New_York:20240501T190000
DTEND;TZID=America/New_York:20240501T200000
SUMMARY:Civic Association Membership Meeting
URL:https://ftp.cameronstation.org/calendar/68-csca-event-calendar/73-civic
 -association/7071-civic-association-membership-meeting
X-ALT-DESC;FMTTYPE=TEXT/HTML:<p>The Cameron Station Civic Association is ho
 lding a Membership Meeting (via Zoom) on Wednesday\, 1 May 2024\, at 7:00 
 pm. <span style='text-decoration: underline\;'><a href='our-neighborhood/c
 ivic-association'>Click here</a></span> for more information.&nbsp\;</p>
END:VEVENT
END:VCALENDAR
